BEGIN:VCALENDAR
PRODID:-//eluceo/ical//2.0/EN
VERSION:2.0
CALSCALE:GREGORIAN
BEGIN:VEVENT
UID:cacc931b25132d203bbfedb6302f5cda
DTSTAMP:20260424T133246Z
SUMMARY:Yoga für Frauen
DESCRIPTION:Yoga für Frauen im MOH\nZeit für dich. Woche für Woche.\nNac
 h einem langen Tag einfach ankommen\, durchatmen und wieder bei dir selbst
  landen.Dieser Yogakurs ist bewusst als Raum für Frauen gestaltet – ein
  Ort\, an dem du loslassen\, auftanken und dich neu ausrichten kannst.\nGe
 meinsam mit Oksana Peterseil\, die dich mit viel Feingefühl und Erfahrung
  durch die Einheiten begleitet\, verbindest du sanfte Bewegung\, bewusste 
 Atmung und Meditation. So stärkst du deinen Körper\, beruhigst dein Nerv
 ensystem und findest zurück in deine Mitte.\nWas du hier erfährst\, begl
 eitet dich auch über die Matte hinaus –hinein in deinen Alltag\, in meh
 r Ruhe\, Klarheit und Stabilität.\nDu brauchst keine Vorkenntnisse.Komm e
 infach so\, wie du bist.\nDas erwartet dich:\n• Ganzkörperkräftigung &
  sanfte Mobilisation• Atemtechniken zur Entspannung• Meditation & inne
 re Ausrichtung• Raum für dich – ohne Druck\, ohne Erwartungen\nDetail
 s\nStart: 14. AprilWann: jeden DienstagZeit: 18:30 – 20:00 UhrOrt: im MO
 H\, Rappottenstein\nKosten:€ 70\,- (10er Block)€ 16\,- pro Einheit\n 
 \nEin Abend nur für dich – zum Spüren\, Loslassen und Kraft tanken.\nG
 enieß den MOHment. 💜
URL:https://das-moh.at/veranstaltungen/details/yoga_fuer_frauen.html
DTSTART:20260421T183000
DTEND:20260421T200000
LOCATION:
END:VEVENT
BEGIN:VTIMEZONE
TZID:Europe/Zurich
BEGIN:DAYLIGHT
DTSTART:20260421T183000
TZNAME:CEST
TZOFFSETTO:+0200
TZOFFSETFROM:+0200
END:DAYLIGHT
END:VTIMEZONE
END:VCALENDAR
