BEGIN:VCALENDAR
PRODID:-//eluceo/ical//2.0/EN
VERSION:2.0
CALSCALE:GREGORIAN
BEGIN:VEVENT
UID:957ddac4fabb6547313fe87105d27758
DTSTAMP:20260424T083515Z
SUMMARY:PILOXING: Sleek - Sexy - Powerful: Fortgeschrittene
DESCRIPTION:Wegen des großen Erfolges geht PILOXING in die Verlängerung! 
 Wir freuen uns auf ein Wiedersehen!\nUnd das Beste: Bring eine Freundin mi
 t und erhalte ein Überraschungsgeschenk! Verpasse nicht diese Gelegenheit
 \, um fit zu werden und gemeinsam mit uns zu trainieren. Wir freuen uns au
 f dich!\nPiloxing SSP ist ein innovatives Fitness Programm\, welches die b
 esten Aspekte von PILATES\, BOXEN und TANZEN in einem abwechslungsreichen 
 Training kombiniert.Es werden die kontrollierte Haltung\, der kraftvolle S
 chwung und die rhythmische Bewegung miteinander vereint.Bei diesem Interva
 lltraining wirst du jede Menge Spaß erleben und gleichzeitig wird auch de
 ine Kondition gestärkt\, einzelne Muskelgruppen trainiert und jede Menge 
 Kalorien verbrannt und das zu vielen rhythmischen Beats.Piloxing ist für 
 alle Fitness Levels geeignet. Man braucht keine Vorerfahrungen und das Tra
 ining kann jederzeit an die eigenen Leistungen angepasst werden.\nTermine 
 für Fortgeschrittene:Mittwoch\, 21.02.2024\, 19.30 UhrMittwoch\, 28.02.20
 24\, 19.30 UhrMittwoch\, 06.03.2024\, 19.30 UhrMittwoch\, 13.03.2024\, 19.
 30 UhrMittwoch\, 20.03.2024\, 19.30 Uhr\nKosten/Training/Person: EUR 10\,-
 Anmeldung per E-Mail: piloxing.anne@gmail.comInstagram: @piloxing_mit_anne
 Mach Dir selbst ein Bild - Die Teilnehmer sind begeistert.
URL:https://das-moh.at/veranstaltungen/details/piloxing-sleek-sexy-powerful
 -fortgeschrittene.html
DTSTART:20240221T000000
DTEND:20240320T235959
LOCATION:
END:VEVENT
BEGIN:VTIMEZONE
TZID:Europe/Zurich
BEGIN:STANDARD
DTSTART:20240221T000000
TZNAME:CET
TZOFFSETTO:+0100
TZOFFSETFROM:+0100
END:STANDARD
END:VTIMEZONE
END:VCALENDAR
