BEGIN:VCALENDAR
PRODID:-//eluceo/ical//2.0/EN
VERSION:2.0
CALSCALE:GREGORIAN
BEGIN:VEVENT
UID:673db478f15fdde43f0021a7f38100a1
DTSTAMP:20260424T084204Z
SUMMARY:PILOXING: Sleek - Sexy - Powerful: Einsteiger
DESCRIPTION:Probiere es aus: Komm zur GRATIS Einsteiger-Schnupperstunde am 
 Mittwoch\, 21.02.2024\, um 18:30 Uhr ins MOH.\nUnd das Beste: Bring eine F
 reundin mit und erhalte ein Überraschungsgeschenk! Verpasse nicht diese G
 elegenheit\, um fit zu werden und gemeinsam mit uns zu trainieren. Wir fre
 uen uns auf dich!\nPiloxing SSP ist ein innovatives Fitness Programm\, wel
 ches die besten Aspekte von PILATES\, BOXEN und TANZEN in einem abwechslun
 gsreichen Training kombiniert.Es werden die kontrollierte Haltung\, der kr
 aftvolle Schwung und die rhythmische Bewegung miteinander vereint.Bei dies
 em Intervalltraining wirst du jede Menge Spaß erleben und gleichzeitig wi
 rd auch deine Kondition gestärkt\, einzelne Muskelgruppen trainiert und j
 ede Menge Kalorien verbrannt und das zu vielen rhythmischen Beats.Piloxing
  ist für alle Fitness Levels geeignet. Man braucht keine Vorerfahrungen u
 nd das Training kann jederzeit an die eigenen Leistungen angepasst werden.
 \nGRATIS Einsteiger-Schnupperstunde: Mittwoch\, 21.02.2024\, 18.30 Uhr\nwe
 itere Einsteiger-Termine:Mittwoch\, 28.02.2024\, 18.30 UhrMittwoch\, 06.03
 .2024\, 18.30 UhrMittwoch\, 13.03.2024\, 18.30 UhrMittwoch\, 20.03.2024\, 
 18.30 Uhr\nKosten/Training/Person: EUR 10\,-Anmeldung per E-Mail: piloxing
 .anne@gmail.comInstagram: @piloxing_mit_anneMach Dir selbst ein Bild - Die
  Teilnehmer sind begeistert.
URL:https://das-moh.at/veranstaltungen/details/piloxing-sleek-sexy-powerful
 -einsteiger.html
DTSTART:20240221T000000
DTEND:20240320T235959
LOCATION:
END:VEVENT
BEGIN:VTIMEZONE
TZID:Europe/Zurich
BEGIN:STANDARD
DTSTART:20240221T000000
TZNAME:CET
TZOFFSETTO:+0100
TZOFFSETFROM:+0100
END:STANDARD
END:VTIMEZONE
END:VCALENDAR
