BEGIN:VCALENDAR
PRODID:-//eluceo/ical//2.0/EN
VERSION:2.0
CALSCALE:GREGORIAN
BEGIN:VEVENT
UID:df6c927918a47c335da5d2611e12f8b7
DTSTAMP:20260424T131249Z
SUMMARY:Mund - Darm eine Verbindung\, die Gesundheit schafft
DESCRIPTION:Wir alle wissen: Gesundheit beginnt im Darm. Doch alles\, was i
 n unseren Körper gelangt\, beginnt im Mund.Der Mund ist weit mehr als nur
  der Startpunkt der Verdauung. Er ist Aufnahmeorgan\, Schutzraum\, Kommuni
 kationsmittel und Ausdruck zugleich. Über ihn nehmen wir Nahrung auf\, tr
 eten in Kontakt mit unserer Umwelt und senden ständig Signale nach innen 
 weiter.Unsere Geschmackssinne\, die Beschaffenheit der Schleimhaut\, die Z
 usammensetzung des Speichels und das orale Mikrobiom spielen dabei eine ze
 ntrale Rolle. Sie entscheiden mit\, wie unser Körper Reize verarbeitet\, 
 wie Verdauung in Gang gesetzt wird und wie gut wir Nährstoffe aufnehmen k
 önnen.In diesem Vortrag entdecken Sie\, welche Bedeutung der Mund für Ih
 r gesamtes Wohlbefinden hat und wie eng er mit dem Darm verbunden ist. Sie
  erhalten ein neues Verständnis für die Abläufe in Ihrem Körper und le
 rnen\, wie Sie diese Verbindung im Alltag bewusst unterstützen können.Ei
 n Impulsvortrag für alle\, die ihren Körper besser verstehen und Gesundh
 eit ganzheitlichbetrachten möchten.Das MOH\, RappottensteinFreitag\, 24.A
 pril - 17:00 - 19:00Beitrag 38 €Anmeldung über: Karin Leitner-Dornik ka
 rin.dornik@gmx.at MOH office@das-moh.at 
URL:https://das-moh.at/veranstaltungen/details/mund_darm_eine_verbindung_di
 e_gesundheit_schafft.html
DTSTART:20260424T000000
DTEND:20260424T235959
LOCATION:
END:VEVENT
BEGIN:VTIMEZONE
TZID:Europe/Zurich
BEGIN:DAYLIGHT
DTSTART:20260424T000000
TZNAME:CEST
TZOFFSETTO:+0200
TZOFFSETFROM:+0200
END:DAYLIGHT
END:VTIMEZONE
END:VCALENDAR
