BEGIN:VCALENDAR
PRODID:-//eluceo/ical//2.0/EN
VERSION:2.0
CALSCALE:GREGORIAN
BEGIN:VEVENT
UID:d50a296d02db08c8f5fdfdf476bf3bf4
DTSTAMP:20260424T131454Z
SUMMARY:Komplementäre Pflege\, Aromapflege – Staatlich anerkannte Weiter
 bildung
DESCRIPTION:Weiterbildung „Komplementäre Aromapflege“ – staatlich an
 erkannt für Pflegepersonen\nKomplementäre Aromapflege – Wissen für de
 n Pflegealltag\nDiese Weiterbildung richtet sich an Pflegepersonen\, die i
 hre Fachkompetenz erweitern möchten und eine staatlich anerkannte Weiterb
 ildung gemäß GuKG §64 und §104a igF absolvieren wollen. Sie ist vom La
 nd Niederösterreich offiziell genehmigt und wird in ganz Österreich aner
 kannt – ein wertvoller Baustein zur Ergänzung deines professionellen Wi
 ssens.\nWorum geht’s?In dieser praxisorientierten Weiterbildung lernst d
 u\, wie du die Unterstützung durch ätherische Öle und naturbasierte Anw
 endungen im Pflegealltag gezielt nutzen kannst – wissenschaftlich fundie
 rt\, alltagstauglich und ohne Verkaufs- oder Heilversprechen. Die Inhalte 
 sind so gestaltet\, dass sie direkt in pflegerische Situationen eingebette
 t werden können\, ohne dogmatisch oder übertrieben zu sein.\nInhalt der 
 Ausbildung (Auszug):• Grundlagen der Aromapflege in der Pflege• Bioche
 mie ätherischer Öle & ihre Wirkung• Sichere Anwendung in der Pflegepra
 xis• Hautpflege mit Hydrolaten und Pflanzenölen• Aromapflege bei Schm
 erzen\, Entzündungen und chronischen Belastungen• Aromapflege bei Kinde
 rn & älteren Menschen• Immunsystem stärken & Infektionsprävention• 
 Psychosomatische Aspekte\, Wohlbefinden und BalanceDiese Weiterbildung bei
 nhaltet Präsenzmodule vor Ort sowie Online-Termine per Zoom und legt Wert
  auf praktische Gruppenarbeit und persönliche Betreuung.\nTermine & Ablau
 f:Die Module finden an unterschiedlichen Wochenenden 2026 in Rappottenstei
 n statt (Freitag & Samstag)\, ergänzt durch Online-Einheiten an Montag- u
 nd Dienstagabenden. Am Ende steht eine Prüfung\, die das neu erworbene Wi
 ssen bestätigt.\nOrt:📍 das MOH – Seminar- & Praxisräume\,3911 Rappo
 ttenstein 121\nTeilnahme:💶 Die Kosten und Anmeldeformalitäten erfährs
 t du direkt bei der Veranstalterin https://akademie.spiritus-natura.at/wei
 terbildung📧 Anmeldung mit Nachweis deiner Pflegequalifikation (z. B. DG
 KP\, PFA\, PA) an: sandra@spiritus-natura.at\nDiese Weiterbildung bietet P
 flegepersonen die Möglichkeit\, fundiertes Wissen über den gezielten Ein
 satz von ätherischen Ölen in der Praxis zu erlernen – seriös\, praxis
 nah und anerkannt.
URL:https://das-moh.at/veranstaltungen/details/komplementaere_pflege_aromap
 flege_staatlich_anerkannte_weiterbildung.html
DTSTART:20260413T000000
DTEND:20270123T235959
LOCATION:3911 Rappottenstein 121
END:VEVENT
BEGIN:VTIMEZONE
TZID:Europe/Zurich
BEGIN:DAYLIGHT
DTSTART:20260413T000000
TZNAME:CEST
TZOFFSETTO:+0200
TZOFFSETFROM:+0200
END:DAYLIGHT
BEGIN:STANDARD
DTSTART:20261025T020000
TZNAME:CET
TZOFFSETTO:+0100
TZOFFSETFROM:+0200
END:STANDARD
END:VTIMEZONE
END:VCALENDAR
