BEGIN:VCALENDAR
PRODID:-//eluceo/ical//2.0/EN
VERSION:2.0
CALSCALE:GREGORIAN
BEGIN:VEVENT
UID:7cb127e5e5cc982f9e5c1aaac119f7e3
DTSTAMP:20260424T130902Z
SUMMARY:Keramik bemalen
DESCRIPTION:\nKeramik bemalen\nGestalte deine eigene Müslischale – ganz 
 nach deinen Vorstellungen.\nIn diesem kreativen Workshop tauchst du in die
  Welt des Keramikbemalens ein und kannst deiner Fantasie freien Lauf lasse
 n. Unter der liebevollen Anleitung von Sabine Schmid vom TESANA Töpferstu
 dio lernst du verschiedene Mal- und Verziertechniken kennen und erhältst 
 wertvolle Tipps für deine persönliche Gestaltung.\nZu Beginn zeigt dir S
 abine die beliebtesten Techniken\, danach gestaltest du dein eigenes Werks
 tück ganz individuell.\nIm Kurs inkludiert:\n\n1 Müslischüssel\nFarben 
 & Materialien\nGlasur & Brennvorgang\n\nAuf Wunsch kannst du andere oder z
 usätzliche Keramikrohlinge (zwischen € 9\,- und € 20\,-) auswählen u
 nd ebenfalls bemalen. Nach dem Workshop werden deine Stücke glasiert und 
 gebrannt – nach ca. 2 Wochen kannst du sie fertig abholen.\nTermin: Mitt
 woch\, 13. MaiZeit: 18:30 – 21:00 UhrOrt: das MOH\, Rappottenstein\n\nTe
 ilnehmer:innen: 6 – 12 Personen\nab 12 Jahren\nKursbeitrag: € 48\,-\n\
 nAnmeldung:\nDirekt über das MOH oder bei:Sabine Schmid – TESANA Töpfe
 rstudio \n📞 0676 633 85 88   \n🌐 www.tesana.at\nEin Abend zum Absc
 halten\, Kreativsein und Eintauchen in deine eigene Gestaltungskraft.\nGen
 ieß den MOHment 💜
URL:https://das-moh.at/veranstaltungen/details/kermaik_bemalen.html
DTSTART:20260513T183000
DTEND:20260513T210000
LOCATION:das MOH\, 3911 Rappottenstein 121
END:VEVENT
BEGIN:VTIMEZONE
TZID:Europe/Zurich
BEGIN:DAYLIGHT
DTSTART:20260513T183000
TZNAME:CEST
TZOFFSETTO:+0200
TZOFFSETFROM:+0200
END:DAYLIGHT
END:VTIMEZONE
END:VCALENDAR
