BEGIN:VCALENDAR
PRODID:-//eluceo/ical//2.0/EN
VERSION:2.0
CALSCALE:GREGORIAN
BEGIN:VEVENT
UID:27107390ab6fdc1b50fd29565c22b997
DTSTAMP:20260424T131110Z
SUMMARY:Aromatherapie Ausbildung
DESCRIPTION:Ausbildung „Aromapflege & ätherische Öle“ – fundiertes 
 Wissen für Alle\nAromawissen praxisnah & unabhängig erlernen\nDiese Ausb
 ildung ist für alle offen\, die sich seriös und fundiert mit ätherische
 n Ölen und deren Einsatzmöglichkeiten beschäftigen möchten – unabhä
 ngig von beruflicher Vorbildung oder Vorerfahrung. Sie vermittelt ein tief
 es Verständnis für die Wirkungsweise\, die botanischen Grundlagen und de
 n sinnvollen Einsatz naturbasierter Duft- und Pflanzenwirkstoffe im Alltag
 \, in der Pflege- und Lebenspraxis.\nInhalt der Ausbildung (10 Module):•
  Grundlagen ätherischer Öle und botanisches Wissen• Biochemie & Wirkun
 g naturbezogener Öle• Pflanzenöle\, Hydrolate und Hautpflege• Aromaw
 issen für Psyche & psychosoziale Aspekte• Nahrung\, Immunsystem & natü
 rliche Unterstützung• Aromapflege bei unterschiedlichen Lebensphasen•
  Anwendungen beim Kind & bei älteren Menschen• Schmerzmanagement und na
 türliche Alltags-Unterstützung• Energie- und Elementearbeit in der Pra
 xis• Rechtliche Grundlagen & sichere AnwendungDiese Module werden teilwe
 ise online und teilweise in Präsenz abgehalten\, um Lernen flexibel und p
 raxisnah zu verbinden.\nTermine & Struktur:Die Ausbildung startet im Früh
 jahr 2026 und findet teils online\, teils in Präsenz statt. Die genauen M
 odultermine – inklusive Frühjahrs-\, Sommer- und Herbstblöcken – sin
 d auf der Ausbildungsseite der Akademie einsehbar.Zielgruppe:Diese Ausbild
 ung ist ideal für Menschen\, die:• unabhängiges Wissen über ätherisc
 he Öle erlernen wollen• fundierte Grundlagen mit wissenschaftlicher Tie
 fe suchen• naturbezogene Lebensweisen vertiefen möchten• ihre persön
 liche Praxis erweitern möchten – beruflich oder privat\nOrt:📍 das MO
 H – Seminar- & Praxisräume\,3911 Rappottenstein 121\nWas du bekommst:
 • Praxisnahe Modulschulungen• Kleine Gruppen für intensive Betreuung
 • Zugang zur Online-Plattform mit Lernmaterialien & Rezepte• Mischung 
 aus Theorie\, Praxis und Anwendungsempfehlungen\nAnmeldung und mehr:Alle D
 etails zu Terminen\, Preisen und Anmeldeformalitäten findest du direkt hi
 er:👉 https://akademie.spiritus-natura.at/ausbildung\nDiese Ausbildung i
 st deine Chance\, tiefgehendes Wissen über ätherische Öle\, Pflanzenpfl
 ege und gesunde Alltagsgestaltung zu erlangen – unabhängig\, fundiert u
 nd alltagstauglich.
URL:https://das-moh.at/veranstaltungen/details/aromatherapie_ausbildung.htm
 l
DTSTART:20260413T000000
DTEND:20270123T235959
LOCATION:3911 Rappottenstein 121
END:VEVENT
BEGIN:VTIMEZONE
TZID:Europe/Zurich
BEGIN:DAYLIGHT
DTSTART:20260413T000000
TZNAME:CEST
TZOFFSETTO:+0200
TZOFFSETFROM:+0200
END:DAYLIGHT
BEGIN:STANDARD
DTSTART:20261025T020000
TZNAME:CET
TZOFFSETTO:+0100
TZOFFSETFROM:+0200
END:STANDARD
END:VTIMEZONE
END:VCALENDAR
